BEGIN:VCALENDAR
VERSION:2.0
PRODID:icalendar-ruby
CALSCALE:GREGORIAN
METHOD:PUBLISH
BEGIN:VEVENT
DTSTAMP:20260423T201020Z
UID:49-720346@doumc.com
DTSTART:20261019T220000Z
DTEND:20261019T230000Z
CLASS:PUBLIC
CREATED:20260420T102958
DESCRIPTION:
LAST-MODIFIED:20260420T102958
LOCATION:Duncannon Otterbein United Methodist Church
SUMMARY:Choir Practice
URL;VALUE=URI:https://www.doumc.com/events/choir-practice--49/2026-10-19
END:VEVENT
END:VCALENDAR
