BEGIN:VCALENDAR
VERSION:2.0
PRODID:icalendar-ruby
CALSCALE:GREGORIAN
METHOD:PUBLISH
BEGIN:VEVENT
DTSTAMP:20260423T180618Z
UID:49-720345@doumc.com
DTSTART:20261012T220000Z
DTEND:20261012T230000Z
CLASS:PUBLIC
CREATED:20260420T102958
DESCRIPTION:
LAST-MODIFIED:20260420T102958
LOCATION:Duncannon Otterbein United Methodist Church
SUMMARY:Choir Practice
URL;VALUE=URI:https://www.doumc.com/events/choir-practice--49/2026-10-12
END:VEVENT
END:VCALENDAR
