BEGIN:VCALENDAR
VERSION:2.0
PRODID:icalendar-ruby
CALSCALE:GREGORIAN
METHOD:PUBLISH
BEGIN:VEVENT
DTSTAMP:20260423T142137Z
UID:49-720343@doumc.com
DTSTART:20260928T220000Z
DTEND:20260928T230000Z
CLASS:PUBLIC
CREATED:20260420T102958
DESCRIPTION:
LAST-MODIFIED:20260420T102958
LOCATION:Duncannon Otterbein United Methodist Church
SUMMARY:Choir Practice
URL;VALUE=URI:https://www.doumc.com/events/choir-practice--49/2026-09-28
END:VEVENT
END:VCALENDAR
